BEGIN:VCALENDAR
VERSION:2.0
PRODID:spatie/icalendar-generator
DESCRIPTION:Händelser från Välkommen till Lysekils Ryttarförening
X-WR-CALDESC:Händelser från Välkommen till Lysekils Ryttarförening
REFRESH-INTERVAL;VALUE=DURATION:PT1440M
X-PUBLISHED-TTL:PT1440M
BEGIN:VTIMEZONE
TZID:Europe/Stockholm
BEGIN:STANDARD
DTSTART:20241027T030000Z
TZOFFSETFROM:+0200
TZOFFSETTO:+0100
END:STANDARD
BEGIN:DAYLIGHT
DTSTART:20250330T020000Z
TZOFFSETFROM:+0100
TZOFFSETTO:+0200
END:DAYLIGHT
END:VTIMEZONE
BEGIN:VTIMEZONE
TZID:UTC
BEGIN:STANDARD
DTSTART:20250725T222924Z
TZOFFSETFROM:+0000
TZOFFSETTO:+0000
END:STANDARD
END:VTIMEZONE
BEGIN:VEVENT
UID:191-181
DTSTAMP:20260421T222924Z
SUMMARY:Träning - Malin Trollnäs
LOCATION:Stora ridhuset
ORGANIZER;CN=Ridlärare LYRF:MAILTO:info@lyrf.se
DTSTART;TZID=Europe/Stockholm:20241228T143000
DTEND;TZID=Europe/Stockholm:20241228T153000
X-ALT-DESC;FMTTYPE=TEXT/HTML:
CATEGORIES:Abonnerat
URL;VALUE=URI:https://lyrf.se/mc-events/traning-malin-trollnas-3/
METHOD:PUBLISH
END:VEVENT
END:VCALENDAR