BEGIN:VCALENDAR
VERSION:2.0
PRODID:spatie/icalendar-generator
DESCRIPTION:Händelser från Välkommen till Lysekils Ryttarförening
X-WR-CALDESC:Händelser från Välkommen till Lysekils Ryttarförening
REFRESH-INTERVAL;VALUE=DURATION:PT1440M
X-PUBLISHED-TTL:PT1440M
BEGIN:VTIMEZONE
TZID:Europe/Stockholm
BEGIN:STANDARD
DTSTART:20241027T030000Z
TZOFFSETFROM:+0200
TZOFFSETTO:+0100
END:STANDARD
BEGIN:DAYLIGHT
DTSTART:20250330T020000Z
TZOFFSETFROM:+0100
TZOFFSETTO:+0200
END:DAYLIGHT
END:VTIMEZONE
BEGIN:VTIMEZONE
TZID:UTC
BEGIN:STANDARD
DTSTART:20250728T190228Z
TZOFFSETFROM:+0000
TZOFFSETTO:+0000
END:STANDARD
END:VTIMEZONE
BEGIN:VEVENT
UID:215-203
DTSTAMP:20260424T190228Z
SUMMARY:Stora ridhuset bokat
LOCATION:Stora och lilla ridhuset
ORGANIZER;CN=Lisa R Zettergren:MAILTO:lisa@gullmarsudde.com
DTSTART;TZID=Europe/Stockholm:20250321T170000
DTEND;TZID=Europe/Stockholm:20250322T150000
X-ALT-DESC;FMTTYPE=TEXT/HTML:Banbyggnation och förberedelse inför Pay &amp;am
 p\; Jump. Abonneringen gäller mellan kl. 17.00 21/3 till och med kl. 15.0
 0 den 22/3.
CATEGORIES:Abonnerat
URL;VALUE=URI:https://lyrf.se/mc-events/stora-ridhuset-bokat-22/
METHOD:PUBLISH
END:VEVENT
END:VCALENDAR