BEGIN:VCALENDAR
VERSION:2.0
PRODID:spatie/icalendar-generator
DESCRIPTION:Händelser från Välkommen till Lysekils Ryttarförening
X-WR-CALDESC:Händelser från Välkommen till Lysekils Ryttarförening
REFRESH-INTERVAL;VALUE=DURATION:PT1440M
X-PUBLISHED-TTL:PT1440M
BEGIN:VTIMEZONE
TZID:Europe/Stockholm
BEGIN:DAYLIGHT
DTSTART:20230326T020000Z
TZOFFSETFROM:+0100
TZOFFSETTO:+0200
END:DAYLIGHT
BEGIN:STANDARD
DTSTART:20231029T030000Z
TZOFFSETFROM:+0200
TZOFFSETTO:+0100
END:STANDARD
BEGIN:DAYLIGHT
DTSTART:20240331T020000Z
TZOFFSETFROM:+0100
TZOFFSETTO:+0200
END:DAYLIGHT
END:VTIMEZONE
BEGIN:VTIMEZONE
TZID:UTC
BEGIN:STANDARD
DTSTART:20250730T035600Z
TZOFFSETFROM:+0000
TZOFFSETTO:+0000
END:STANDARD
END:VTIMEZONE
BEGIN:VEVENT
UID:136-130
DTSTAMP:20260426T035600Z
SUMMARY:Stora Ridhuset abonnerat
LOCATION:Stora ridhuset
ORGANIZER;CN=Lotta Abrahamsson:MAILTO:lotta.abrahamsson@livsklok.se
DTSTART;TZID=Europe/Stockholm:20231104T140000
DTEND;TZID=Europe/Stockholm:20231104T150000
X-ALT-DESC;FMTTYPE=TEXT/HTML:Inget tillträde till Stora Ridhuset under den
 na timme.
CATEGORIES:General,  Abonnerat
URL;VALUE=URI:https://lyrf.se/mc-events/stora-ridhuset-abonnerat-29/
METHOD:PUBLISH
END:VEVENT
END:VCALENDAR