BEGIN:VCALENDAR
VERSION:2.0
PRODID:spatie/icalendar-generator
DESCRIPTION:Händelser från Välkommen till Lysekils Ryttarförening
X-WR-CALDESC:Händelser från Välkommen till Lysekils Ryttarförening
REFRESH-INTERVAL;VALUE=DURATION:PT1440M
X-PUBLISHED-TTL:PT1440M
BEGIN:VTIMEZONE
TZID:Europe/Stockholm
BEGIN:STANDARD
DTSTART:20231029T030000Z
TZOFFSETFROM:+0200
TZOFFSETTO:+0100
END:STANDARD
BEGIN:DAYLIGHT
DTSTART:20240331T020000Z
TZOFFSETFROM:+0100
TZOFFSETTO:+0200
END:DAYLIGHT
BEGIN:STANDARD
DTSTART:20241027T030000Z
TZOFFSETFROM:+0200
TZOFFSETTO:+0100
END:STANDARD
END:VTIMEZONE
BEGIN:VTIMEZONE
TZID:UTC
BEGIN:STANDARD
DTSTART:20250726T220526Z
TZOFFSETFROM:+0000
TZOFFSETTO:+0000
END:STANDARD
END:VTIMEZONE
BEGIN:VEVENT
UID:165-158
DTSTAMP:20260422T220526Z
SUMMARY:Ridläger
LOCATION:Stora ridhuset
ORGANIZER;CN=Ridlärare LYRF:MAILTO:info@lyrf.se
DTSTART;TZID=Europe/Stockholm:20240620T091500
DTEND;TZID=Europe/Stockholm:20240620T143000
X-ALT-DESC;FMTTYPE=TEXT/HTML:Vid fint väder tider vi ute
CATEGORIES:Abonnerat
URL;VALUE=URI:https://lyrf.se/mc-events/ridlager-4/
METHOD:PUBLISH
END:VEVENT
END:VCALENDAR