BEGIN:VCALENDAR
VERSION:2.0
PRODID:spatie/icalendar-generator
DESCRIPTION:Händelser från Välkommen till Lysekils Ryttarförening
X-WR-CALDESC:Händelser från Välkommen till Lysekils Ryttarförening
REFRESH-INTERVAL;VALUE=DURATION:PT1440M
X-PUBLISHED-TTL:PT1440M
BEGIN:VTIMEZONE
TZID:Europe/Stockholm
BEGIN:STANDARD
DTSTART:20241027T030000Z
TZOFFSETFROM:+0200
TZOFFSETTO:+0100
END:STANDARD
BEGIN:DAYLIGHT
DTSTART:20250330T020000Z
TZOFFSETFROM:+0100
TZOFFSETTO:+0200
END:DAYLIGHT
BEGIN:STANDARD
DTSTART:20251026T030000Z
TZOFFSETFROM:+0200
TZOFFSETTO:+0100
END:STANDARD
END:VTIMEZONE
BEGIN:VTIMEZONE
TZID:UTC
BEGIN:STANDARD
DTSTART:20250729T022331Z
TZOFFSETFROM:+0000
TZOFFSETTO:+0000
END:STANDARD
END:VTIMEZONE
BEGIN:VEVENT
UID:213-201
DTSTAMP:20260425T022331Z
SUMMARY:Pay &amp;amp\; Jump - Påskhoppet
LOCATION:Stora och lilla ridhuset
ORGANIZER;CN=Lisa R Zettergren:MAILTO:lisa@gullmarsudde.com
DTSTART;TZID=Europe/Stockholm:20250425T170000
DTEND;TZID=Europe/Stockholm:20250426T150000
X-ALT-DESC;FMTTYPE=TEXT/HTML:Ingen annan aktivitet är tillåten i ridhuset
  under abonneringstiden
CATEGORIES:Abonnerat,  Pay and Jump
URL;VALUE=URI:https://lyrf.se/mc-events/pay-jump-paskhoppet/
METHOD:PUBLISH
END:VEVENT
END:VCALENDAR